BEGIN:VCALENDAR
VERSION:2.0
PRODID:-//ChamberMaster//Event Calendar 2.0//EN
METHOD:PUBLISH
X-PUBLISHED-TTL:P3D
REFRESH-INTERVAL:P3D
CALSCALE:GREGORIAN
BEGIN:VEVENT
DTSTART:20260617T160000Z
DTEND:20260617T173000Z
X-MICROSOFT-CDO-ALLDAYEVENT:FALSE
SUMMARY:NSBA Carbon Calculator Workshop
DESCRIPTION:Measuring Emissions. Driving Smarter Business Decisions.\n\nCurious about your carbon footprint but not sure where to start? Or already tracking emissions and looking to go deeper?\n\n\n\nJoin NSBA for an interactive\, hands-on workshop introducing our Carbon Calculator\, a practical tool designed to help Saskatchewan businesses measure\, track\, and better understand their greenhouse gas (GHG) emissions.\n\n\n\nWhether you're just getting started\, exploring your options\, or already working on emissions tracking\, this session is designed for you. We'll walk through the calculator step by step\, share real-world examples\, and answer your questions along the way.\n\n\n\nWhat You'll Get Out of It\n\n	A live walkthrough of the Carbon Calculator\n	Guidance on what data you need and how to use it\n	Practical tips to interpret your results\n	Open Q&A to support your specific business needs\n\nThis is a free session\, and we encourage you to invite colleagues or others in your network who may benefit.\n\n\n\nCome ready to learn\, ask questions\, and explore how measuring your emissions can support smarter business decisions.
X-ALT-DESC;FMTTYPE=text/html:<strong>Measuring Emissions. Driving Smarter Business Decisions.</strong><br />\nCurious about your carbon footprint but not sure where to start? Or already tracking emissions and looking to go deeper?<br />\n<br />\nJoin NSBA for an interactive\, hands-on workshop introducing our Carbon Calculator\, a practical tool designed to help Saskatchewan businesses measure\, track\, and better understand their greenhouse gas (GHG) emissions.<br />\n<br />\nWhether you&rsquo\;re just getting started\, exploring your options\, or already working on emissions tracking\, this session is designed for you. We&rsquo\;ll walk through the calculator step by step\, share real-world examples\, and answer your questions along the way.<br />\n<br />\n<strong>What You&rsquo\;ll Get Out of It</strong>\n<ul>\n	<li>A live walkthrough of the Carbon Calculator</li>\n	<li>Guidance on what data you need and how to use it</li>\n	<li>Practical tips to interpret your results</li>\n	<li>Open Q&amp\;A to support your specific business needs</li>\n</ul>\n<strong>This is a free session\, and we encourage you to invite colleagues or others in your network who may benefit.</strong><br />\n<br />\nCome ready to learn\, ask questions\, and explore how measuring your emissions can support smarter business decisions.
LOCATION:Virtual (Microsoft Teams) Link will be sent closer to the date
UID:e.9215.394
SEQUENCE:3
DTSTAMP:20260424T003013Z
URL:https://members.nsbasask.com/events/details/nsba-carbon-calculator-workshop-394
END:VEVENT

END:VCALENDAR
